BEGIN:VCALENDAR
VERSION:2.0
PRODID:-//505 Offroad//Runs//EN
CALSCALE:GREGORIAN
METHOD:PUBLISH
BEGIN:VEVENT
UID:263@505offroad.org
DTSTAMP:20260420T114011Z
SUMMARY:Event: Overland Expo West 2026 — Flagstaff\, AZ
LOCATION:FT. TUTHILL COUNTY PARK FLAGSTAFF\, AZ\, USA
DESCRIPTION:This is dynamic we will either roll out Friday sometime around lunch or Saturday morning early like around 6am. We are kind of taking it as it goes depending on who comes and we will see on where we will meet up.\n\nMore details: https://505offroad.org/ride/overland-expo-west-2026-flagstaff-az/
DTSTART;VALUE=DATE:20260515
DTEND;VALUE=DATE:20260518
URL:https://505offroad.org/ride/overland-expo-west-2026-flagstaff-az/
END:VEVENT
END:VCALENDAR
