BEGIN:VCALENDAR
VERSION:2.0
PRODID:-//505 Offroad//Runs//EN
CALSCALE:GREGORIAN
METHOD:PUBLISH
BEGIN:VEVENT
UID:265@505offroad.org
DTSTAMP:20260422T111734Z
SUMMARY:Event: Go Topless Day
LOCATION:45 Hotel Cir NE\, Albuquerque\, NM 87123
DESCRIPTION:More details: https://505offroad.org/ride/go-topless-day/
DTSTART;TZID=America/Denver:20260516T110000
DTEND;TZID=America/Denver:20260516T140000
URL:https://505offroad.org/ride/go-topless-day/
END:VEVENT
END:VCALENDAR
